BEGIN:VCALENDAR
VERSION:2.0
PRODID:-//APAC  Association des Plaisanciers d&#039;Agde et du Cap - ECPv6.15.20//NONSGML v1.0//EN
CALSCALE:GREGORIAN
METHOD:PUBLISH
X-ORIGINAL-URL:https://apac-agde.fr
X-WR-CALDESC:Évènements pour APAC  Association des Plaisanciers d&#039;Agde et du Cap
REFRESH-INTERVAL;VALUE=DURATION:PT1H
X-Robots-Tag:noindex
X-PUBLISHED-TTL:PT1H
BEGIN:VTIMEZONE
TZID:Europe/Paris
BEGIN:DAYLIGHT
TZOFFSETFROM:+0100
TZOFFSETTO:+0200
TZNAME:CEST
DTSTART:20250330T010000
END:DAYLIGHT
BEGIN:STANDARD
TZOFFSETFROM:+0200
TZOFFSETTO:+0100
TZNAME:CET
DTSTART:20251026T010000
END:STANDARD
BEGIN:DAYLIGHT
TZOFFSETFROM:+0100
TZOFFSETTO:+0200
TZNAME:CEST
DTSTART:20260329T010000
END:DAYLIGHT
BEGIN:STANDARD
TZOFFSETFROM:+0200
TZOFFSETTO:+0100
TZNAME:CET
DTSTART:20261025T010000
END:STANDARD
BEGIN:DAYLIGHT
TZOFFSETFROM:+0100
TZOFFSETTO:+0200
TZNAME:CEST
DTSTART:20270328T010000
END:DAYLIGHT
BEGIN:STANDARD
TZOFFSETFROM:+0200
TZOFFSETTO:+0100
TZNAME:CET
DTSTART:20271031T010000
END:STANDARD
END:VTIMEZONE
BEGIN:VEVENT
DTSTART;TZID=Europe/Paris:20260124T153000
DTEND;TZID=Europe/Paris:20260124T230000
DTSTAMP:20260425T142706
CREATED:20251222T100018Z
LAST-MODIFIED:20251222T110753Z
UID:25911-1769268600-1769295600@apac-agde.fr
SUMMARY:Assemblée générale
DESCRIPTION:
URL:https://apac-agde.fr/event/assemblee-generale/
LOCATION:APAC – Centre Nautique\, Avenue du Passeur Challiès\, CAP d'AGDE\, 34300\, France
ORGANIZER;CN="Bureau APAC":MAILTO:contact@apac-agde.fr
END:VEVENT
END:VCALENDAR