BEGIN:VCALENDAR
VERSION:2.0
PRODID:-//APAC  Association des Plaisanciers d&#039;Agde et du Cap - ECPv6.15.20//NONSGML v1.0//EN
CALSCALE:GREGORIAN
METHOD:PUBLISH
X-WR-CALNAME:APAC  Association des Plaisanciers d&#039;Agde et du Cap
X-ORIGINAL-URL:https://apac-agde.fr
X-WR-CALDESC:Évènements pour APAC  Association des Plaisanciers d&#039;Agde et du Cap
REFRESH-INTERVAL;VALUE=DURATION:PT1H
X-Robots-Tag:noindex
X-PUBLISHED-TTL:PT1H
BEGIN:VTIMEZONE
TZID:Europe/Paris
BEGIN:DAYLIGHT
TZOFFSETFROM:+0100
TZOFFSETTO:+0200
TZNAME:CEST
DTSTART:20250330T010000
END:DAYLIGHT
BEGIN:STANDARD
TZOFFSETFROM:+0200
TZOFFSETTO:+0100
TZNAME:CET
DTSTART:20251026T010000
END:STANDARD
BEGIN:DAYLIGHT
TZOFFSETFROM:+0100
TZOFFSETTO:+0200
TZNAME:CEST
DTSTART:20260329T010000
END:DAYLIGHT
BEGIN:STANDARD
TZOFFSETFROM:+0200
TZOFFSETTO:+0100
TZNAME:CET
DTSTART:20261025T010000
END:STANDARD
BEGIN:DAYLIGHT
TZOFFSETFROM:+0100
TZOFFSETTO:+0200
TZNAME:CEST
DTSTART:20270328T010000
END:DAYLIGHT
BEGIN:STANDARD
TZOFFSETFROM:+0200
TZOFFSETTO:+0100
TZNAME:CET
DTSTART:20271031T010000
END:STANDARD
END:VTIMEZONE
BEGIN:VEVENT
DTSTART;TZID=Europe/Paris:20260606T093000
DTEND;TZID=Europe/Paris:20260606T113000
DTSTAMP:20260419T163000
CREATED:20260224T125050Z
LAST-MODIFIED:20260322T165613Z
UID:26239-1780738200-1780745400@apac-agde.fr
SUMMARY:Formation : Open CPN 2
DESCRIPTION:par Fabrice Vincent \n\n\n\n \n\n\n\n\n\n\n\n\n\n\n\nImage provenance logiciel sous GPL  \n\n\n\n\nOpenCPN est un logiciel libre de navigation maritime (traceur de cartes électroniques) destiné à être utilisé à bord d’un bateau ou pour préparer une route à terre.Il est développé par une communauté de marins qui le testent en conditions réelles de navigation. \n\n\n\nOpenCPN fonctionne comme un traceur GPS professionnel\, comparable aux solutions propriétaires des grands fabricants\, mais avec un code ouvert et personnalisable.Il affiche la position du bateau\, la vitesse et le cap directement sur des cartes marines numériques. \n\n\n\n\n\ninscrivez-vous…\n\n\n\nOrganisation : \n\n\n\n\n\nLieu : \n\n\n\n\nLocal  APAC\n\n\n\n2 quai de la Trirème – « Résidence du port »\,\n\n\n\n 34300 Le Cap d’Agde\n\n\n\nComment s’y rendre…
URL:https://apac-agde.fr/event/formation-open-cpn-2/
LOCATION:APAC – Centre Nautique\, Avenue du Passeur Challiès\, CAP d'AGDE\, 34300\, France
CATEGORIES:Formation
ATTACH;FMTTYPE=image/png:https://apac-agde.fr/wp-content/uploads/2015/02/logo-opencpn.png
ORGANIZER;CN="Formations":MAILTO:formations@apac-agde.fr
END:VEVENT
END:VCALENDAR