BEGIN:VCALENDAR
VERSION:2.0
PRODID:-//APAC  Association des Plaisanciers d&#039;Agde et du Cap - ECPv6.15.20//NONSGML v1.0//EN
CALSCALE:GREGORIAN
METHOD:PUBLISH
X-WR-CALNAME:APAC  Association des Plaisanciers d&#039;Agde et du Cap
X-ORIGINAL-URL:https://apac-agde.fr
X-WR-CALDESC:Évènements pour APAC  Association des Plaisanciers d&#039;Agde et du Cap
REFRESH-INTERVAL;VALUE=DURATION:PT1H
X-Robots-Tag:noindex
X-PUBLISHED-TTL:PT1H
BEGIN:VTIMEZONE
TZID:Europe/Paris
BEGIN:DAYLIGHT
TZOFFSETFROM:+0100
TZOFFSETTO:+0200
TZNAME:CEST
DTSTART:20240331T010000
END:DAYLIGHT
BEGIN:STANDARD
TZOFFSETFROM:+0200
TZOFFSETTO:+0100
TZNAME:CET
DTSTART:20241027T010000
END:STANDARD
BEGIN:DAYLIGHT
TZOFFSETFROM:+0100
TZOFFSETTO:+0200
TZNAME:CEST
DTSTART:20250330T010000
END:DAYLIGHT
BEGIN:STANDARD
TZOFFSETFROM:+0200
TZOFFSETTO:+0100
TZNAME:CET
DTSTART:20251026T010000
END:STANDARD
BEGIN:DAYLIGHT
TZOFFSETFROM:+0100
TZOFFSETTO:+0200
TZNAME:CEST
DTSTART:20260329T010000
END:DAYLIGHT
BEGIN:STANDARD
TZOFFSETFROM:+0200
TZOFFSETTO:+0100
TZNAME:CET
DTSTART:20261025T010000
END:STANDARD
END:VTIMEZONE
BEGIN:VEVENT
DTSTART;TZID=Europe/Paris:20251214T120000
DTEND;TZID=Europe/Paris:20251214T160000
DTSTAMP:20260421T131115
CREATED:20251115T111345Z
LAST-MODIFIED:20251205T172204Z
UID:25643-1765713600-1765728000@apac-agde.fr
SUMMARY:Repas de fin d'année 2025 à l'Anantara
DESCRIPTION:Pour clôturer l’année 2025 en tout amitié ! \n\n\n\nRepas \n\n\n\n\n\nLire la suite…s’inscrire
URL:https://apac-agde.fr/event/repas-de-fin-dannee-2025-a-lanantara/
LOCATION:Anantara\, 10\, place Terrisse\, Le Cap d'Agde\, 34300
CATEGORIES:Assemblées Générales,Repas & Apéritifs
ATTACH;FMTTYPE=image/jpeg:https://apac-agde.fr/wp-content/uploads/2024/11/fin-annee.jpg
END:VEVENT
END:VCALENDAR