BEGIN:VCALENDAR
VERSION:2.0
PRODID:-//APAC  Association des Plaisanciers d&#039;Agde et du Cap - ECPv6.15.20//NONSGML v1.0//EN
CALSCALE:GREGORIAN
METHOD:PUBLISH
X-WR-CALNAME:APAC  Association des Plaisanciers d&#039;Agde et du Cap
X-ORIGINAL-URL:https://apac-agde.fr
X-WR-CALDESC:Évènements pour APAC  Association des Plaisanciers d&#039;Agde et du Cap
REFRESH-INTERVAL;VALUE=DURATION:PT1H
X-Robots-Tag:noindex
X-PUBLISHED-TTL:PT1H
BEGIN:VTIMEZONE
TZID:Europe/Paris
BEGIN:DAYLIGHT
TZOFFSETFROM:+0100
TZOFFSETTO:+0200
TZNAME:CEST
DTSTART:20250330T010000
END:DAYLIGHT
BEGIN:STANDARD
TZOFFSETFROM:+0200
TZOFFSETTO:+0100
TZNAME:CET
DTSTART:20251026T010000
END:STANDARD
BEGIN:DAYLIGHT
TZOFFSETFROM:+0100
TZOFFSETTO:+0200
TZNAME:CEST
DTSTART:20260329T010000
END:DAYLIGHT
BEGIN:STANDARD
TZOFFSETFROM:+0200
TZOFFSETTO:+0100
TZNAME:CET
DTSTART:20261025T010000
END:STANDARD
BEGIN:DAYLIGHT
TZOFFSETFROM:+0100
TZOFFSETTO:+0200
TZNAME:CEST
DTSTART:20270328T010000
END:DAYLIGHT
BEGIN:STANDARD
TZOFFSETFROM:+0200
TZOFFSETTO:+0100
TZNAME:CET
DTSTART:20271031T010000
END:STANDARD
END:VTIMEZONE
BEGIN:VEVENT
DTSTART;TZID=Europe/Paris:20260305T173000
DTEND;TZID=Europe/Paris:20260305T200000
DTSTAMP:20260421T113521
CREATED:20260117T143350Z
LAST-MODIFIED:20260117T143354Z
UID:26128-1772731800-1772740800@apac-agde.fr
SUMMARY:Permanence du jeudi 05 mars 2026
DESCRIPTION:Info permanences du jeudi\n\n\n\n  \n\n\n\n\n\n\n\nUne permanence aura lieu au Centre Nautique (Grande salle) \n\n\n\nJeudi 05/03/2026 de  17h30 à 20h00 \n\n\n\n\n\n\n\nLa  permanence suivante aura lieu au Centre Nautique (Grande salle) \n\n\n\nJeudi 19/03/2026 de  17h30 à 20h00 \n\n\n\n \n\n\n\n\nVOIR LE TABLEAU COMPLET 2026\n\n\n\n	MOISDatesPermanenceHoraires Lieu\n\n\n\n\n	2026Période hiver : 17H30 à 20H00Période été : 18H00 à 20H00Centre NautiqueGrande Salle\n\n\n	JANVIERjeudi 08 janvier 2026Galette des Rois\n\n\n	samedi 24 janvier 2026Assemblée générale\n\n\n	FEVRIERjeudi 5 février 2026Soirée crêpes\n\n\n	jeudi 19 février 2026\n\n\n	MARSjeudi 5 mars 2026\n\n\n	jeudi 19 mars 2026\n\n\n	AVRILjeudi 2 avril 2026\n\n\n	jeudi 16 avril 2026\n\n\n	MAIjeudi 7 mai 2026\n\n\n	jeudi 14 mai 2026Permanence annulée (pas de salle)\n\n\n	JUINjeudi 4 juin 2026\n\n\n	jeudi 18 juin 2026\n\n\n	JUILLETjeudi 2 juillet 2026\n\n\n	jeudi 16 juillet 2026\n\n\n	AOUTjeudi 6 août 2026\n\n\n	jeudi 20 août 2026\n\n\n	SEPTEMBREjeudi 3 septembre 2026\n\n\n	jeudi 17 septembre 2026\n\n\n	OCTOBREjeudi 1 octobre 2026\n\n\n	jeudi 15 octobre 2026\n\n\n	NOVEMBREjeudi 5 novembre 2026\n\n\n	jeudi 12 novembre 2026\n\n\n	DECEMBREjeudi 3 décembre 2026\n\n\n	jeudi 17 décembre 2026\n\n\n\nPermanences APAC 2026\n\n\n\n\n\n\n  \n\n\n\n  \n\n\n\n\n\n\n\n\nAPAC – Centre Nautique\n\n\n\nAvenue du Passeur ChallièsCAP d’AGDE\, 34300
URL:https://apac-agde.fr/event/permanence-du-jeudi-05-mars-2026/
LOCATION:APAC – Centre Nautique\, Avenue du Passeur Challiès\, CAP d'AGDE\, 34300\, France
CATEGORIES:Les jeudis rencontre
ATTACH;FMTTYPE=image/jpeg:https://apac-agde.fr/wp-content/uploads/2025/09/Permanences_APAC_with_bold_de_2.jpg
ORGANIZER;CN="Permanences":MAILTO:permanences@apac-agde.fr
END:VEVENT
BEGIN:VEVENT
DTSTART;TZID=Europe/Paris:20260307T093000
DTEND;TZID=Europe/Paris:20260307T113000
DTSTAMP:20260421T113521
CREATED:20260224T110355Z
LAST-MODIFIED:20260224T124943Z
UID:26225-1772875800-1772883000@apac-agde.fr
SUMMARY:Formation : Open CPN 1
DESCRIPTION:par Fabrice Vincent \n\n\n\n \n\n\n\n\n\n\n\n\n\n\n\nImage provenance logiciel sous GPL  \n\n\n\n\nOpenCPN est un logiciel libre de navigation maritime (traceur de cartes électroniques) destiné à être utilisé à bord d’un bateau ou pour préparer une route à terre.Il est développé par une communauté de marins qui le testent en conditions réelles de navigation. \n\n\n\nOpenCPN fonctionne comme un traceur GPS professionnel\, comparable aux solutions propriétaires des grands fabricants\, mais avec un code ouvert et personnalisable.Il affiche la position du bateau\, la vitesse et le cap directement sur des cartes marines numériques. \n\n\n\n\n\ninscrivez-vous…\n\n\n\nOrganisation : \n\n\n\n\n\nLieu : \n\n\n\n\nAPAC – Centre Nautique\n\n\n\nAvenue du Passeur ChallièsCAP d’AGDE\, 34300
URL:https://apac-agde.fr/event/formation-open-cpn/
LOCATION:APAC – Centre Nautique\, Avenue du Passeur Challiès\, CAP d'AGDE\, 34300\, France
CATEGORIES:Formation
ATTACH;FMTTYPE=image/png:https://apac-agde.fr/wp-content/uploads/2015/02/logo-opencpn.png
ORGANIZER;CN="Formations":MAILTO:formations@apac-agde.fr
END:VEVENT
BEGIN:VEVENT
DTSTART;TZID=Europe/Paris:20260319T173000
DTEND;TZID=Europe/Paris:20260319T200000
DTSTAMP:20260421T113521
CREATED:20260306T185629Z
LAST-MODIFIED:20260306T185637Z
UID:26345-1773941400-1773950400@apac-agde.fr
SUMMARY:Permanence du jeudi 19 mars 2026
DESCRIPTION:Info permanences du jeudi\n\n\n\n  \n\n\n\n\n\n\n\nUne permanence aura lieu au Centre Nautique (Grande salle) \n\n\n\nJeudi 19/03/2026 de  17h30 à 20h00 \n\n\n\n\n\n\n\nLa  permanence suivante aura lieu au Centre Nautique (Grande salle) \n\n\n\nJeudi 02/04/2026 de  17h30 à 20h00 \n\n\n\n \n\n\n\n\nVOIR LE TABLEAU COMPLET 2026\n\n\n\n	MOISDatesPermanenceHoraires Lieu\n\n\n\n\n	2026Période hiver : 17H30 à 20H00Période été : 18H00 à 20H00Centre NautiqueGrande Salle\n\n\n	JANVIERjeudi 08 janvier 2026Galette des Rois\n\n\n	samedi 24 janvier 2026Assemblée générale\n\n\n	FEVRIERjeudi 5 février 2026Soirée crêpes\n\n\n	jeudi 19 février 2026\n\n\n	MARSjeudi 5 mars 2026\n\n\n	jeudi 19 mars 2026\n\n\n	AVRILjeudi 2 avril 2026\n\n\n	jeudi 16 avril 2026\n\n\n	MAIjeudi 7 mai 2026\n\n\n	jeudi 14 mai 2026Permanence annulée (pas de salle)\n\n\n	JUINjeudi 4 juin 2026\n\n\n	jeudi 18 juin 2026\n\n\n	JUILLETjeudi 2 juillet 2026\n\n\n	jeudi 16 juillet 2026\n\n\n	AOUTjeudi 6 août 2026\n\n\n	jeudi 20 août 2026\n\n\n	SEPTEMBREjeudi 3 septembre 2026\n\n\n	jeudi 17 septembre 2026\n\n\n	OCTOBREjeudi 1 octobre 2026\n\n\n	jeudi 15 octobre 2026\n\n\n	NOVEMBREjeudi 5 novembre 2026\n\n\n	jeudi 12 novembre 2026\n\n\n	DECEMBREjeudi 3 décembre 2026\n\n\n	jeudi 17 décembre 2026\n\n\n\nPermanences APAC 2026\n\n\n\n\n\n\n  \n\n\n\n  \n\n\n\n\n\n\n\n\nAPAC – Centre Nautique\n\n\n\nAvenue du Passeur ChallièsCAP d’AGDE\, 34300
URL:https://apac-agde.fr/event/permanence-du-jeudi-19-mars-2026/
LOCATION:APAC – Centre Nautique\, Avenue du Passeur Challiès\, CAP d'AGDE\, 34300\, France
CATEGORIES:Les jeudis rencontre
ATTACH;FMTTYPE=image/jpeg:https://apac-agde.fr/wp-content/uploads/2025/09/Permanences_APAC_with_bold_de_2.jpg
ORGANIZER;CN="Permanences":MAILTO:permanences@apac-agde.fr
END:VEVENT
BEGIN:VEVENT
DTSTART;TZID=Europe/Paris:20260321T093000
DTEND;TZID=Europe/Paris:20260321T113000
DTSTAMP:20260421T113521
CREATED:20260224T122926Z
LAST-MODIFIED:20260224T122932Z
UID:26229-1774085400-1774092600@apac-agde.fr
SUMMARY:Formation : mécanique
DESCRIPTION: Christophe Palomares  VOLVO \n\n\n\n \n\n\n\n\nChristophe Palomares  Croix du Sud \n\n\n\n\n\n\n\n\n\n\nInscrivez-vous…
URL:https://apac-agde.fr/event/formation-mecanique/
LOCATION:APAC – Centre Nautique\, Avenue du Passeur Challiès\, CAP d'AGDE\, 34300\, France
CATEGORIES:Formation
ATTACH;FMTTYPE=image/jpeg:https://apac-agde.fr/wp-content/uploads/2022/03/moteur-horsbord.jpg
ORGANIZER;CN="Formations":MAILTO:formations@apac-agde.fr
END:VEVENT
END:VCALENDAR